BEGIN:VCALENDAR
VERSION:2.0
PRODID:SchoolNow
CALSCALE:GREGORIAN
BEGIN:VEVENT
UID:15be1a6e-3206-11f1-8627-0a58a9feac02
DTSTAMP:20260420T084015Z
SUMMARY:Senior Graduation
LOCATION:Pulaski High School\, 1040 S St Augustine St\, Pulaski\, WI 54162\
 , USA
URL;VALUE=URI:https://www.pulaskischools.org/news-events/calendar/8975477/s
 enior-graduation
DTSTART:20260528T000000Z
DTEND:20260528T020000Z
END:VEVENT
END:VCALENDAR
