BEGIN:VCALENDAR
VERSION:2.0
PRODID:SchoolNow
CALSCALE:GREGORIAN
BEGIN:VEVENT
UID:dfe4ec6a-0ec4-11f1-9cd5-0a58a9feac02
DTSTAMP:20260421T150517Z
SUMMARY:School Board meeting
LOCATION:DO-MEETINGROOM-1-(15)-[meeting room]\, DO-MEETINGROOM-2-(25)-[meet
 ing room]
URL;VALUE=URI:https://www.pulaskischools.org/news-events/calendar/8862860/s
 chool-board-meeting
DTSTART:20271020T230000Z
DTEND:20271021T010000Z
END:VEVENT
END:VCALENDAR
