BEGIN:VCALENDAR
VERSION:2.0
PRODID:SchoolNow
CALSCALE:GREGORIAN
BEGIN:VEVENT
UID:8d461676-f166-11f0-8901-0afff1174013
DTSTAMP:20260114T163200Z
SUMMARY:Facilities Community Engagement Session
LOCATION:Lannoye Elementary School
URL;VALUE=URI:https://www.pulaskischools.org/news-events/calendar/8836103/f
 acilities-community-engagement-session
DTSTART:20260115T000000Z
DTEND:20260115T020000Z
END:VEVENT
END:VCALENDAR
