BEGIN:VCALENDAR
VERSION:2.0
PRODID:SchoolNow
CALSCALE:GREGORIAN
BEGIN:VEVENT
UID:01ec762c-eb28-11f0-a5de-0eed8f2d95bd
DTSTAMP:20260106T174911Z
SUMMARY:No School for Students / Staff PDL Day
URL;VALUE=URI:https://www.pulaskischools.org/news-events/calendar/8829928/n
 o-school-for-students-staff-pdl-day
DTSTART;VALUE=DATE:20260406
DTEND;VALUE=DATE:20260407
END:VEVENT
END:VCALENDAR
