BEGIN:VCALENDAR
VERSION:2.0
PRODID:SchoolNow
CALSCALE:GREGORIAN
BEGIN:VEVENT
UID:e0745d28-e787-11f0-a357-0afffdf2587d
DTSTAMP:20260421T090017Z
SUMMARY:Board Workshop Meeting
LOCATION:District Office Meeting Room
URL;VALUE=URI:https://www.pulaskischools.org/news-events/calendar/8828242/b
 oard-workshop-meeting
DTSTART:20270901T230000Z
DTEND:20270902T003000Z
END:VEVENT
END:VCALENDAR
