BEGIN:VCALENDAR
VERSION:2.0
PRODID:SchoolNow
CALSCALE:GREGORIAN
BEGIN:VEVENT
UID:6e17af68-dc93-11f0-acd8-02a298fcf127
DTSTAMP:20260421T090017Z
SUMMARY:School Board meeting
LOCATION:DO-MEETINGROOM-1-(15)-[meeting room]\, DO-MEETINGROOM-2-(25)-[meet
 ing room]
URL;VALUE=URI:https://www.pulaskischools.org/news-events/calendar/8826183/s
 chool-board-meeting
DTSTART:20270818T230000Z
DTEND:20270819T010000Z
END:VEVENT
END:VCALENDAR
