BEGIN:VCALENDAR
VERSION:2.0
PRODID:SchoolNow
CALSCALE:GREGORIAN
BEGIN:VEVENT
UID:1001a528-d16c-11f0-989b-027fabda6e2d
DTSTAMP:20260421T090017Z
SUMMARY:Board Workshop Meeting
LOCATION:District Office Meeting Room
URL;VALUE=URI:https://www.pulaskischools.org/news-events/calendar/8817874/b
 oard-workshop-meeting
DTSTART:20270804T230000Z
DTEND:20270805T003000Z
END:VEVENT
END:VCALENDAR
