BEGIN:VCALENDAR
VERSION:2.0
PRODID:SchoolNow
CALSCALE:GREGORIAN
BEGIN:VEVENT
UID:a39b23d2-c644-11f0-a837-0e6d9029d573
DTSTAMP:20260420T144601Z
SUMMARY:Board Business Meeting
LOCATION:DO-MEETINGROOM-1-(15)-[meeting room]\, DO-MEETINGROOM-2-(25)-[meet
 ing room]
URL;VALUE=URI:https://www.pulaskischools.org/news-events/calendar/8805636/b
 oard-business-meeting
DTSTART:20260129T000000Z
DTEND:20260129T020000Z
END:VEVENT
END:VCALENDAR
