BEGIN:VCALENDAR
VERSION:2.0
PRODID:SchoolNow
CALSCALE:GREGORIAN
BEGIN:VEVENT
UID:e5582a6c-a949-11f0-b266-0eeb94f2cf05
DTSTAMP:20260421T025514Z
SUMMARY:School Board meeting
LOCATION:DO-MEETINGROOM-1-(15)-[meeting room]\, DO-MEETINGROOM-2-(25)-[meet
 ing room]
URL;VALUE=URI:https://www.pulaskischools.org/news-events/calendar/8722367/s
 chool-board-meeting
DTSTART:20270519T230000Z
DTEND:20270520T010000Z
END:VEVENT
END:VCALENDAR
