BEGIN:VCALENDAR
VERSION:2.0
PRODID:SchoolNow
CALSCALE:GREGORIAN
BEGIN:VEVENT
UID:97d1f2ca-97e5-11f0-9db8-0a58a9feac02
DTSTAMP:20250922T185439Z
SUMMARY:Facilities Engagement Session
LOCATION:PCMS Library
URL;VALUE=URI:https://www.pulaskischools.org/news-events/calendar/8653202/f
 acilities-engagment-session
DTSTART:20251002T230000Z
DTEND:20251003T000000Z
END:VEVENT
END:VCALENDAR
