BEGIN:VCALENDAR
VERSION:2.0
PRODID:SchoolNow
CALSCALE:GREGORIAN
BEGIN:VEVENT
UID:11a839ee-9262-11f0-a8af-02e3c97c94cf
DTSTAMP:20260421T025514Z
SUMMARY:Board Workshop Meeting
LOCATION:District Office Meeting Room
URL;VALUE=URI:https://www.pulaskischools.org/news-events/calendar/8624931/b
 oard-workshop-meeting
DTSTART:20270505T230000Z
DTEND:20270506T003000Z
END:VEVENT
END:VCALENDAR
