BEGIN:VCALENDAR
VERSION:2.0
PRODID:SchoolNow
CALSCALE:GREGORIAN
BEGIN:VEVENT
UID:ebf47482-8d80-11f0-9dcd-0a58a9feac02
DTSTAMP:20250909T133006Z
SUMMARY:FFA Back to School Picnic
URL;VALUE=URI:https://www.pulaskischools.org/news-events/calendar/8599416/f
 fa-back-to-school-picnic
DTSTART:20250915T230000Z
DTEND:20250916T010000Z
END:VEVENT
END:VCALENDAR
