BEGIN:VCALENDAR
VERSION:2.0
PRODID:SchoolNow
CALSCALE:GREGORIAN
BEGIN:VEVENT
UID:7389cc76-8a9d-11f0-9728-0a58a9feac02
DTSTAMP:20260421T025514Z
SUMMARY:School Board meeting
LOCATION:DO-MEETINGROOM-1-(15)-[meeting room]\, DO-MEETINGROOM-2-(25)-[meet
 ing room]
URL;VALUE=URI:https://www.pulaskischools.org/news-events/calendar/8585129/s
 chool-board-meeting
DTSTART:20270421T230000Z
DTEND:20270422T010000Z
END:VEVENT
END:VCALENDAR
