BEGIN:VCALENDAR
VERSION:2.0
PRODID:SchoolNow
CALSCALE:GREGORIAN
BEGIN:VEVENT
UID:2ba6a532-764d-11f0-afd3-0a58a9feac02
DTSTAMP:20260421T025514Z
SUMMARY:Board Workshop Meeting
LOCATION:District Office Meeting Room
URL;VALUE=URI:https://www.pulaskischools.org/news-events/calendar/8488722/b
 oard-workshop-meeting
DTSTART:20270407T230000Z
DTEND:20270408T003000Z
END:VEVENT
END:VCALENDAR
