BEGIN:VCALENDAR
VERSION:2.0
PRODID:SchoolNow
CALSCALE:GREGORIAN
BEGIN:VEVENT
UID:5b06660c-72ea-11f0-9eba-0a58a9feac02
DTSTAMP:20260421T025514Z
SUMMARY:School Board meeting
LOCATION:DO-MEETINGROOM-1-(15)-[meeting room]\, DO-MEETINGROOM-2-(25)-[meet
 ing room]
URL;VALUE=URI:https://www.pulaskischools.org/news-events/calendar/8476422/s
 chool-board-meeting
DTSTART:20270317T230000Z
DTEND:20270318T010000Z
END:VEVENT
END:VCALENDAR
