BEGIN:VCALENDAR
VERSION:2.0
PRODID:SchoolNow
CALSCALE:GREGORIAN
BEGIN:VEVENT
UID:5b065c70-72ea-11f0-b4ae-0a58a9feac02
DTSTAMP:20260420T084015Z
SUMMARY:School Board meeting
LOCATION:DO-MEETINGROOM-1-(15)-[meeting room]\, DO-MEETINGROOM-2-(25)-[meet
 ing room]
URL;VALUE=URI:https://www.pulaskischools.org/news-events/calendar/8476411/s
 chool-board-meeting
DTSTART:20260318T230000Z
DTEND:20260319T010000Z
END:VEVENT
END:VCALENDAR
