BEGIN:VCALENDAR
VERSION:2.0
PRODID:SchoolNow
CALSCALE:GREGORIAN
BEGIN:VEVENT
UID:8fce01c2-4718-11f0-a861-0affe8c1e7b9
DTSTAMP:20260420T144601Z
SUMMARY:PDL Day
URL;VALUE=URI:https://www.pulaskischools.org/news-events/calendar/8288240/p
 dl-day
DTSTART;VALUE=DATE:20260608
DTEND;VALUE=DATE:20260609
END:VEVENT
END:VCALENDAR
