BEGIN:VCALENDAR
VERSION:2.0
PRODID:SchoolNow
CALSCALE:GREGORIAN
BEGIN:VEVENT
UID:8fce00d2-4718-11f0-97be-0affe8c1e7b9
DTSTAMP:20260420T144601Z
SUMMARY:Last Day of School (Early Release)
URL;VALUE=URI:https://www.pulaskischools.org/news-events/calendar/8288238/l
 ast-day-of-school-early-release
DTSTART;VALUE=DATE:20260605
DTEND;VALUE=DATE:20260606
END:VEVENT
END:VCALENDAR
