BEGIN:VCALENDAR
VERSION:2.0
PRODID:SchoolNow
CALSCALE:GREGORIAN
BEGIN:VEVENT
UID:8fcdfc72-4718-11f0-b7c9-0affe8c1e7b9
DTSTAMP:20260420T084015Z
SUMMARY:Good Friday - No School
URL;VALUE=URI:https://www.pulaskischools.org/news-events/calendar/8288232/g
 ood-friday-no-school
DTSTART;VALUE=DATE:20260403
DTEND;VALUE=DATE:20260404
END:VEVENT
END:VCALENDAR
