BEGIN:VCALENDAR
VERSION:2.0
PRODID:SchoolNow
CALSCALE:GREGORIAN
BEGIN:VEVENT
UID:8fcdfb78-4718-11f0-8bd4-0affe8c1e7b9
DTSTAMP:20260420T084015Z
SUMMARY:No School
URL;VALUE=URI:https://www.pulaskischools.org/news-events/calendar/8288231/n
 o-school
DTSTART;VALUE=DATE:20260330
DTEND;VALUE=DATE:20260403
END:VEVENT
END:VCALENDAR
