BEGIN:VCALENDAR
VERSION:2.0
PRODID:SchoolNow
CALSCALE:GREGORIAN
BEGIN:VEVENT
UID:8fcdfa92-4718-11f0-8035-0affe8c1e7b9
DTSTAMP:20260420T084015Z
SUMMARY:No School - PDL Work/Collab Day
URL;VALUE=URI:https://www.pulaskischools.org/news-events/calendar/8288229/n
 o-school-pdl-work-collab-day
DTSTART;VALUE=DATE:20260302
DTEND;VALUE=DATE:20260303
END:VEVENT
END:VCALENDAR
