BEGIN:VCALENDAR
VERSION:2.0
PRODID:SchoolNow
CALSCALE:GREGORIAN
BEGIN:VEVENT
UID:8fcdf9a2-4718-11f0-83da-0affe8c1e7b9
DTSTAMP:20260420T084015Z
SUMMARY:PDL Day - All Staff
URL;VALUE=URI:https://www.pulaskischools.org/news-events/calendar/8288228/p
 dl-day-all-staff
DTSTART;VALUE=DATE:20260227
DTEND;VALUE=DATE:20260228
END:VEVENT
END:VCALENDAR
