BEGIN:VCALENDAR
VERSION:2.0
PRODID:SchoolNow
CALSCALE:GREGORIAN
BEGIN:VEVENT
UID:8fcdf8c6-4718-11f0-b99b-0affe8c1e7b9
DTSTAMP:20260420T144601Z
SUMMARY:PDL Day - No School
URL;VALUE=URI:https://www.pulaskischools.org/news-events/calendar/8288226/p
 dl-day-no-school
DTSTART;VALUE=DATE:20260120
DTEND;VALUE=DATE:20260121
END:VEVENT
END:VCALENDAR
