BEGIN:VCALENDAR
VERSION:2.0
PRODID:SchoolNow
CALSCALE:GREGORIAN
BEGIN:VEVENT
UID:8fcdf7e0-4718-11f0-ae8b-0affe8c1e7b9
DTSTAMP:20260420T144601Z
SUMMARY:MLK Day - No School
URL;VALUE=URI:https://www.pulaskischools.org/news-events/calendar/8288225/m
 lk-day-no-school
DTSTART;VALUE=DATE:20260119
DTEND;VALUE=DATE:20260120
END:VEVENT
END:VCALENDAR
