BEGIN:VCALENDAR
VERSION:2.0
PRODID:SchoolNow
CALSCALE:GREGORIAN
BEGIN:VEVENT
UID:8fcdf646-4718-11f0-b2dd-0affe8c1e7b9
DTSTAMP:20260420T144601Z
SUMMARY:No School - FLEX PDL Work/Collab Day
URL;VALUE=URI:https://www.pulaskischools.org/news-events/calendar/8288223/n
 o-school-flex-pdl-work-collab-day
DTSTART;VALUE=DATE:20260102
DTEND;VALUE=DATE:20260103
END:VEVENT
END:VCALENDAR
