BEGIN:VCALENDAR
VERSION:2.0
PRODID:SchoolNow
CALSCALE:GREGORIAN
BEGIN:VEVENT
UID:8fcdf56a-4718-11f0-99a4-0affe8c1e7b9
DTSTAMP:20260420T144601Z
SUMMARY:No School
URL;VALUE=URI:https://www.pulaskischools.org/news-events/calendar/8288222/n
 o-school
DTSTART;VALUE=DATE:20251224
DTEND;VALUE=DATE:20260102
END:VEVENT
END:VCALENDAR
