BEGIN:VCALENDAR
VERSION:2.0
PRODID:SchoolNow
CALSCALE:GREGORIAN
BEGIN:VEVENT
UID:5fbb9fb2-fa01-11ef-8265-023f926c3fed
DTSTAMP:20260420T205015Z
SUMMARY:Board Workshop Meeting
LOCATION:District Office Meeting Room
URL;VALUE=URI:https://www.pulaskischools.org/news-events/calendar/7609355/b
 oard-workshop-meeting
DTSTART:20261007T230000Z
DTEND:20261008T003000Z
END:VEVENT
END:VCALENDAR
