BEGIN:VCALENDAR
VERSION:2.0
PRODID:SchoolNow
CALSCALE:GREGORIAN
BEGIN:VEVENT
UID:e038ad92-eefd-11ef-a8f1-0a58a9feac02
DTSTAMP:20250219T201242Z
SUMMARY:Friday Fun Night @ PCMS
LOCATION:PCMS
URL;VALUE=URI:https://www.pulaskischools.org/news-events/calendar/7501714/f
 riday-fun-night-pcms
DTSTART:20250308T003000Z
DTEND:20250308T030000Z
END:VEVENT
END:VCALENDAR
