BEGIN:VCALENDAR
VERSION:2.0
PRODID:SchoolNow
CALSCALE:GREGORIAN
BEGIN:VEVENT
UID:ac664a46-ea53-11ef-87a4-0affcd99da23
DTSTAMP:20250213T214455Z
SUMMARY:"Once Upon a Mattress" Opening Night
LOCATION:PHS
URL;VALUE=URI:https://www.pulaskischools.org/news-events/calendar/7464988/o
 nce-upon-a-mattress-opening-night
DTSTART:20250215T200000Z
DTEND:20250216T010000Z
END:VEVENT
END:VCALENDAR
