BEGIN:VCALENDAR
VERSION:2.0
PRODID:SchoolNow
CALSCALE:GREGORIAN
BEGIN:VEVENT
UID:7669d246-ea53-11ef-b8ac-0a58a9feac02
DTSTAMP:20250213T214246Z
SUMMARY:Booster Bash at the Barn
URL;VALUE=URI:https://www.pulaskischools.org/news-events/calendar/7464987/b
 ooster-bash-at-the-barn
DTSTART:20250215T233000Z
DTEND:20250216T023000Z
END:VEVENT
END:VCALENDAR
