BEGIN:VCALENDAR
VERSION:2.0
PRODID:SchoolNow
CALSCALE:GREGORIAN
BEGIN:VEVENT
UID:7c3f13b2-e3e5-11ef-a712-02ec900d02d5
DTSTAMP:20260420T144601Z
SUMMARY:Board Workshop Meeting
LOCATION:District Office Meeting Room
URL;VALUE=URI:https://www.pulaskischools.org/news-events/calendar/7426669/b
 oard-workshop-meeting
DTSTART:20260805T230000Z
DTEND:20260806T003000Z
END:VEVENT
END:VCALENDAR
