BEGIN:VCALENDAR
VERSION:2.0
PRODID:SchoolNow
CALSCALE:GREGORIAN
BEGIN:VEVENT
UID:8c0f351e-8d74-11ef-8340-0a58a9feac02
DTSTAMP:20260420T144601Z
SUMMARY:Board Workshop Meeting
LOCATION:District Office Meeting Room
URL;VALUE=URI:https://www.pulaskischools.org/news-events/calendar/6850846/b
 oard-workshop-meeting
DTSTART:20260603T230000Z
DTEND:20260604T003000Z
END:VEVENT
END:VCALENDAR
