BEGIN:VCALENDAR
VERSION:2.0
PRODID:SchoolNow
CALSCALE:GREGORIAN
BEGIN:VEVENT
UID:f9c9ef06-6a31-11ef-b397-0245954367f5
DTSTAMP:20260420T084015Z
SUMMARY:Board Workshop Meeting
LOCATION:District Office Meeting Room
URL;VALUE=URI:https://www.pulaskischools.org/news-events/calendar/6515891/b
 oard-workshop-meeting
DTSTART:20260408T230000Z
DTEND:20260409T003000Z
END:VEVENT
END:VCALENDAR
