BEGIN:VCALENDAR
VERSION:2.0
PRODID:SchoolNow
CALSCALE:GREGORIAN
BEGIN:VEVENT
UID:30ef9908-42bf-11ef-bfb8-021bb31d9873
DTSTAMP:20260420T084015Z
SUMMARY:Board Workshop Meeting
LOCATION:District Office Meeting Room
URL;VALUE=URI:https://www.pulaskischools.org/news-events/calendar/6262871/b
 oard-workshop-meeting
DTSTART:20260305T000000Z
DTEND:20260305T013000Z
END:VEVENT
END:VCALENDAR
