BEGIN:VCALENDAR
VERSION:2.0
PRODID:SchoolNow
CALSCALE:GREGORIAN
BEGIN:VEVENT
UID:b960c072-3931-11f1-bc03-0a58a9feac02
DTSTAMP:20260422T031514Z
SUMMARY:School Board meeting
LOCATION:DO-MEETINGROOM-1-(15)-[meeting room]\, DO-MEETINGROOM-2-(25)-[meet
 ing room]
URL;VALUE=URI:https://www.pulaskischools.org/fairview/calendar/8996571/scho
 ol-board-meeting
DTSTART:20271216T000000Z
DTEND:20271216T020000Z
END:VEVENT
END:VCALENDAR
