BEGIN:VCALENDAR
VERSION:2.0
PRODID:SchoolNow
CALSCALE:GREGORIAN
BEGIN:VEVENT
UID:47912b7a-2e3d-11f1-b6f8-0ede2875e3fb
DTSTAMP:20260422T031514Z
SUMMARY:Board Workshop Meeting
LOCATION:District Office Meeting Room
URL;VALUE=URI:https://www.pulaskischools.org/fairview/calendar/8964449/boar
 d-workshop-meeting
DTSTART:20271202T000000Z
DTEND:20271202T013000Z
END:VEVENT
END:VCALENDAR
