BEGIN:VCALENDAR
VERSION:2.0
PRODID:SchoolNow
CALSCALE:GREGORIAN
BEGIN:VEVENT
UID:dfd93c3c-227c-11f1-887d-0affdeba7a99
DTSTAMP:20260422T031514Z
SUMMARY:School Board meeting
LOCATION:DO-MEETINGROOM-1-(15)-[meeting room]\, DO-MEETINGROOM-2-(25)-[meet
 ing room]
URL;VALUE=URI:https://www.pulaskischools.org/fairview/calendar/8926376/scho
 ol-board-meeting
DTSTART:20271118T000000Z
DTEND:20271118T020000Z
END:VEVENT
END:VCALENDAR
