BEGIN:VCALENDAR
VERSION:2.0
PRODID:SchoolNow
CALSCALE:GREGORIAN
BEGIN:VEVENT
UID:71b212b0-1755-11f1-9c5f-029e9cd6e58f
DTSTAMP:20260422T031514Z
SUMMARY:Board Workshop Meeting
LOCATION:District Office Meeting Room
URL;VALUE=URI:https://www.pulaskischools.org/fairview/calendar/8888254/boar
 d-workshop-meeting
DTSTART:20271103T230000Z
DTEND:20271104T003000Z
END:VEVENT
END:VCALENDAR
