BEGIN:VCALENDAR
VERSION:2.0
PRODID:SchoolNow
CALSCALE:GREGORIAN
BEGIN:VEVENT
UID:6e0d1f94-03d0-11f1-9ecc-0a58a9feac02
DTSTAMP:20260422T031514Z
SUMMARY:Board Workshop Meeting
LOCATION:District Office Meeting Room
URL;VALUE=URI:https://www.pulaskischools.org/fairview/calendar/8850917/boar
 d-workshop-meeting
DTSTART:20271006T230000Z
DTEND:20271007T003000Z
END:VEVENT
END:VCALENDAR
