BEGIN:VCALENDAR
VERSION:2.0
PRODID:SchoolNow
CALSCALE:GREGORIAN
BEGIN:VEVENT
UID:52c5e140-f27c-11f0-b385-0a58a9feac02
DTSTAMP:20260422T031514Z
SUMMARY:School Board meeting
LOCATION:DO-MEETINGROOM-1-(15)-[meeting room]\, DO-MEETINGROOM-2-(25)-[meet
 ing room]
URL;VALUE=URI:https://www.pulaskischools.org/fairview/calendar/8836842/scho
 ol-board-meeting
DTSTART:20270915T230000Z
DTEND:20270916T010000Z
END:VEVENT
END:VCALENDAR
