BEGIN:VCALENDAR
VERSION:2.0
PRODID:SchoolNow
CALSCALE:GREGORIAN
BEGIN:VEVENT
UID:94e85846-c743-11f0-a424-0afff2817ecd
DTSTAMP:20260421T211014Z
SUMMARY:School Board meeting
LOCATION:DO-MEETINGROOM-1-(15)-[meeting room]\, DO-MEETINGROOM-2-(25)-[meet
 ing room]
URL;VALUE=URI:https://www.pulaskischools.org/fairview/calendar/8807720/scho
 ol-board-meeting
DTSTART:20270721T230000Z
DTEND:20270722T010000Z
END:VEVENT
END:VCALENDAR
