BEGIN:VCALENDAR
VERSION:2.0
PRODID:SchoolNow
CALSCALE:GREGORIAN
BEGIN:VEVENT
UID:1eed6496-bc4f-11f0-99ed-0a58a9feac02
DTSTAMP:20260421T211014Z
SUMMARY:Board Workshop Meeting
LOCATION:District Office Meeting Room
URL;VALUE=URI:https://www.pulaskischools.org/fairview/calendar/8784147/boar
 d-workshop-meeting
DTSTART:20270707T230000Z
DTEND:20270708T003000Z
END:VEVENT
END:VCALENDAR
