BEGIN:VCALENDAR
VERSION:2.0
PRODID:SchoolNow
CALSCALE:GREGORIAN
BEGIN:VEVENT
UID:78204f3a-b4f0-11f0-b4bd-0e334dbd9977
DTSTAMP:20260421T211014Z
SUMMARY:School Board meeting
LOCATION:DO-MEETINGROOM-1-(15)-[meeting room]\, DO-MEETINGROOM-2-(25)-[meet
 ing room]
URL;VALUE=URI:https://www.pulaskischools.org/fairview/calendar/8759431/scho
 ol-board-meeting
DTSTART:20270616T230000Z
DTEND:20270617T010000Z
END:VEVENT
END:VCALENDAR
