BEGIN:VCALENDAR
VERSION:2.0
PRODID:SchoolNow
CALSCALE:GREGORIAN
BEGIN:VEVENT
UID:e4b1a6b0-a949-11f0-87ad-0a58a9feac02
DTSTAMP:20260421T211014Z
SUMMARY:Board Workshop Meeting
LOCATION:District Office Meeting Room
URL;VALUE=URI:https://www.pulaskischools.org/fairview/calendar/8722360/boar
 d-workshop-meeting
DTSTART:20270602T230000Z
DTEND:20270603T003000Z
END:VEVENT
END:VCALENDAR
