BEGIN:VCALENDAR
VERSION:2.0
PRODID:SchoolNow
CALSCALE:GREGORIAN
BEGIN:VEVENT
UID:7f986364-89d1-11f0-afb8-0e30aff73053
DTSTAMP:20251216T214548Z
SUMMARY:FV Fairview Apparel Orders Due
URL;VALUE=URI:https://www.pulaskischools.org/fairview/calendar/8581162/fv-f
 airview-apparel-orders-due
DTSTART;VALUE=DATE:20250925
DTEND;VALUE=DATE:20250926
END:VEVENT
END:VCALENDAR
