BEGIN:VCALENDAR
VERSION:2.0
PRODID:SchoolNow
CALSCALE:GREGORIAN
BEGIN:VEVENT
UID:83fb486e-899e-11f0-9b0c-0a58a9feac02
DTSTAMP:20251216T214548Z
SUMMARY:FV Fairview Apparel Sale
URL;VALUE=URI:https://www.pulaskischools.org/fairview/calendar/8578535/fv-f
 airview-apparel-sale
DTSTART;VALUE=DATE:20250908
DTEND;VALUE=DATE:20250926
END:VEVENT
END:VCALENDAR
