BEGIN:VCALENDAR
VERSION:2.0
PRODID:SchoolNow
CALSCALE:GREGORIAN
BEGIN:VEVENT
UID:83fb4760-899e-11f0-b1a8-0a58a9feac02
DTSTAMP:20251216T214548Z
SUMMARY:FV No School
URL;VALUE=URI:https://www.pulaskischools.org/fairview/calendar/8578534/fv-n
 o-school
DTSTART;VALUE=DATE:20250926
DTEND;VALUE=DATE:20250927
END:VEVENT
END:VCALENDAR
