BEGIN:VCALENDAR
VERSION:2.0
PRODID:SchoolNow
CALSCALE:GREGORIAN
BEGIN:VEVENT
UID:83fb4634-899e-11f0-bfdd-0a58a9feac02
DTSTAMP:20251216T214548Z
SUMMARY:FV Packer Day
URL;VALUE=URI:https://www.pulaskischools.org/fairview/calendar/8578533/fv-p
 acker-day
DTSTART;VALUE=DATE:20250919
DTEND;VALUE=DATE:20250920
END:VEVENT
END:VCALENDAR
