BEGIN:VCALENDAR
VERSION:2.0
PRODID:SchoolNow
CALSCALE:GREGORIAN
BEGIN:VEVENT
UID:83fb449a-899e-11f0-854e-0a58a9feac02
DTSTAMP:20251216T214548Z
SUMMARY:FV Badger Day
URL;VALUE=URI:https://www.pulaskischools.org/fairview/calendar/8578532/fv-b
 adger-day
DTSTART;VALUE=DATE:20250912
DTEND;VALUE=DATE:20250913
END:VEVENT
END:VCALENDAR
