BEGIN:VCALENDAR
VERSION:2.0
PRODID:SchoolNow
CALSCALE:GREGORIAN
BEGIN:VEVENT
UID:83fb2582-899e-11f0-8edd-0a58a9feac02
DTSTAMP:20251216T214548Z
SUMMARY:FV Fairview Day
URL;VALUE=URI:https://www.pulaskischools.org/fairview/calendar/8578531/fv-f
 airview-day
DTSTART;VALUE=DATE:20250905
DTEND;VALUE=DATE:20250906
END:VEVENT
END:VCALENDAR
